Workbook

Sheet TCB Return Schedules Summary
A1: TCB Return Schedules (Form S-201)
A2: TCB Return Schedules Summary
A4: The information summarised in the green cells below is derived from the specific data which has been entered in Schedules 1 through 6 with respect to the Qualifying Bermuda Group, and has been presented in the manner in which this information should
A5: be entered into the TCB online return. The information below should be the same as the information which is entered in the TCB online return for the tax credit determination period with respect to the Qualifying Bermuda Group.
C7: TCB Online Return - Summary Information
C10: 1 | D10: Accrued Substance-Based Tax Credit Benefit (aggregate of the Job-Based Benefit Component and the Expense-Based Benefit Component from Table 1 below) | R10: =AG49 -> 0
C12: 2 | D12: Distributable Substance-Based Tax Credit Benefit (see Table 2 below) | R12: =AN49 -> 0
C14: 3 | D14: Community Development Tax Credit: Total eligible expenses (equal to the total U.S. dollar denominated eligible charitable expenses for the current, first preceding, and second preceding fiscal years from Table 3 below) | R14: =SUM(BC49,BI49,BO49) -> 0
C16: 4 | D16: Community Development Tax Credit: Eligibility determination | R16: =IF(R14>=300000,"Yes","No") -> No
C18: 5 | D18: Community Development Tax Credit: Eligible expenses for the current fiscal year (if item 4 is "Yes", equal to total eligible charitable expenses (in U.S. dollars) for the current tax credit determination period from Table 3 below) | R18: =IF(R16="Yes",BC49,0) -> 0
C20: 6 | D20: Community Development Tax Credit Benefit (from item S2A6) | R20: =IF(AND(ISNUMBER(R18)=TRUE,ISNUMBER('Schedule 3'!G18)=TRUE),'Schedule 3'!G18,0) -> 0
C22: 7 | D22: Utilities Infrastructure Tax Credit Benefits (from item S2A7) | R22: ='Schedule 2'!G21 -> 0
C24: 8 | D24: Total Distributable Tax Credit Benefits (sum of items 2, 6, and 7) | R24: =R12+R20+R22 -> 0
C26: 9 | D26: Distributable Tax Credit Benefits generated by Qualifying Bermuda Group NBCEs | M26: sum of (a) and (b) | N26: =SUM(N28:N29) -> 0 | R26: =N26 -> 0
D28: - Distributable Substance-Based Tax Credit Benefits generated by Qualifying Bermuda Group NBCEs (see Table 4 below) | M28: (a) | N28: =BY49 -> 0
D29: - Community Development Tax Credit Benefit generated by Qualifying Bermuda Group NBCEs (see Table 4 below) | M29: (b) | N29: =CC49 -> 0
C31: 10 | D31: Distributable Tax Credit Benefits generated by Qualifying Bermuda Group BCEs | M31: sum of (c), (d) and (e) | N31: =SUM(N33:N35) -> 0 | R31: =N31 -> 0
D33: - Distributable Substance-Based Tax Credit Benefits generated by Qualifying Bermuda Group BCEs (see Table 4 below) | M33: (c) | N33: =BW49 -> 0
D34: - Community Development Tax Credit Benefit generated by Qualifying Bermuda Group BCEs (see Table 4 below) | M34: (d) | N34: =CA49 -> 0
D35: - Utilities Infrastructure Tax Credit Benefits generated by Qualifying Bermuda Group BCEs (from item S2A7) | M35: (e) | N35: ='Schedule 2'!G21 -> 0
C38: TCB Online Return - Detailed Tabular Support
G41: Table 1: Accrued Substance-Based Tax Credit Benefit | V41: Table 2: Distributable Substance-Based Tax Credit Benefit | AY41: Table 3: Eligible charitable expenses | BS41: Table 4: Distributable Substance-Based Tax Credit Benefits generated by BCEs or NBCEs
G43: Job-Based Benefit Component | N43: Expense-Based Benefit Component | V43: Opening Substance-Based Tax Credit Carryforward | AC43: Accrued Substance-Based Tax Credit Benefit | AJ43: Distributable Substance-Based Tax Credit Benefit | AQ43: Closing Substance-Based Tax Credit Carryforward | AY43: Current tax credit determination period | BE43: Other portions of the current fiscal year and the first preceding year | BK43: Second preceding fiscal year | BW43: Distributable | BY43: Distributable | CA43: Community | CC43: Community | CE43: Utilities | CG43: Utilities
AY44: Amounts denominated | BE44: Amounts denominated | BK44: Amounts denominated | BW44: Substance-Based | BY44: Substance-Based | CA44: Development | CC44: Development | CE44: Infrastructure | CG44: Infrastructure
G45: Amounts denominated | I45: Foreign | K45: Amounts | N45: Amounts denominated | P45: Foreign | R45: Amounts | V45: Amounts denominated | X45: Foreign | Z45: Amounts | AC45: Amounts denominated | AE45: Foreign | AG45: Amounts | AJ45: Amounts denominated | AL45: Foreign | AN45: Amounts | AQ45: Amounts denominated | AS45: Foreign | AU45: Amounts | AY45: in financial | BA45: Foreign | BC45: Amounts | BE45: in financial | BG45: Foreign | BI45: Amounts | BK45: in financial | BM45: Foreign | BO45: Amounts | BT45: BCE or non-BCE | BW45: Tax Credit | BY45: Tax Credit | CA45: Tax Credit | CC45: Tax Credit | CE45: Tax Credit | CG45: Tax Credit
G46: in financial statement | I46: exchange rate | K46: converted into | N46: in financial statement | P46: exchange rate | R46: converted into | V46: in financial statement | X46: exchange rate | Z46: converted into | AC46: in financial statement | AE46: exchange rate | AG46: converted into | AJ46: in financial statement | AL46: exchange rate | AN46: converted into | AQ46: in financial statement | AS46: exchange rate | AU46: converted into | AY46: statement currency | BA46: exchange rate | BC46: converted into | BE46: statement currency | BG46: exchange rate | BI46: converted into | BK46: statement currency | BM46: exchange rate | BO46: converted into | BT46: status of the QBGE | BW46: Benefit (item S2B5) | BY46: Benefit (item S2B5) | CA46: Benefit (item S2B6) | CC46: Benefit (item S2B6) | CE46: Benefit (item S2B7) | CG46: Benefit (item S2B7)
D47: Name of QBGE (item S1C1) | G47: currency (item S2A1) | I47: (items S1A7 and S1A9) | K47: U.S. dollars | N47: currency (item S2A2) | P47: (items S1A7 and S1A9) | R47: U.S. dollars | V47: currency (item S6A5) | X47: (items S1A7 and S1A9) | Z47: U.S. dollars | AC47: currency (item S2A3) | AE47: (items S1A7 and S1A9) | AG47: U.S. dollars | AJ47: currency (item S2B3) | AL47: (items S1A7 and S1A9) | AN47: U.S. dollars | AQ47: currency (item S6B3) | AS47: (items S1A7 and S1A9) | AU47: U.S. dollars | AY47: (item S3B1) | BA47: (items S1A7 and S1A9) | BC47: U.S. dollars | BE47: (items S3B2 and S3B3) | BG47: (items S1A7 and S1A9) | BI47: U.S. dollars | BK47: (item S3B4) | BM47: (items S1A7 and S1A9) | BO47: U.S. dollars | BT47: (item S1C4) | BW47: generated by BCEs | BY47: generated by NBCEs | CA47: generated by BCEs | CC47: generated by NBCEs | CE47: generated by BCEs | CG47: generated by NBCEs
F49: Total | G49: =SUM(G51:G100) -> 0 | K49: =SUM(K51:K100) -> 0 | N49: =SUM(N51:N100) -> 0 | R49: =SUM(R51:R100) -> 0 | U49: Total | V49: =SUM(V51:V100) -> 0 | Z49: =SUM(Z51:Z100) -> 0 | AC49: =SUM(AC51:AC100) -> 0 | AG49: =SUM(AG51:AG100) -> 0 | AJ49: =SUM(AJ51:AJ100) -> 0 | AN49: =SUM(AN51:AN100) -> 0 | AQ49: =SUM(AQ51:AQ100) -> 0 | AU49: =SUM(AU51:AU100) -> 0 | AX49: Total | AY49: =SUM(AY51:AY100) -> 0 | BC49: =SUM(BC51:BC100) -> 0 | BE49: =SUM(BE51:BE100) -> 0 | BI49: =SUM(BI51:BI100) -> 0 | BK49: =SUM(BK51:BK100) -> 0 | BO49: =SUM(BO51:BO100) -> 0 | BW49: =SUM(BW51:BW100) -> 0 | BY49: =SUM(BY51:BY100) -> 0 | CA49: =SUM(CA51:CA100) -> 0 | CC49: =SUM(CC51:CC100) -> 0 | CE49: =SUM(CE51:CE100) -> 0 | CG49: =SUM(CG51:CG100) -> 0
B51: ='Helper 1'!AE2 | D51: =IFERROR(INDEX('Helper 1'!$AA$2:$AA$51,MATCH(B51,'Helper 1'!$AD$2:$AD$51,0)),"") | G51: {=IF($D51="","",IFERROR(INDEX('Schedule 2'!$K$9:$IX$9,MATCH($D51,'Schedule 2'!$K$7:$IX$7,0)+1),""))} | I51: =IF($D51<>"",'Schedule 2'!$G$15,"") | K51: =IF(AND(G51<>"",I51<>""),ROUND(G51*I51,2),"") | N51: {=IF($D51="","",IFERROR(INDEX('Schedule 2'!$K$11:$IX$11,MATCH($D51,'Schedule 2'!$K$7:$IX$7,0)+1),""))} | P51: =IF($D51<>"",'Schedule 2'!$G$15,"") | R51: =IF(AND(N51<>"",P51<>""),ROUND(N51*P51,2),"") | V51: {=IF($D51="","",IFERROR(INDEX('Schedule 6'!$K$18:$IX$18,MATCH($D51,'Schedule 6'!$K$7:$IX$7,0)+1),""))} | X51: =IF($D51<>"",'Schedule 2'!$G$15,"") | Z51: =IF(AND(V51<>"",X51<>""),ROUND(V51*X51,2),"") | AC51: =IF($D51="","",G51+N51) | AE51: =IF($D51<>"",'Schedule 2'!$G$15,"") | AG51: =IF($D51="","",K51+R51) | AJ51: {=IF($D51="","",IFERROR(INDEX('Schedule 2'!$K$35:$IX$35,MATCH($D51,'Schedule 2'!$K$7:$IX$7,0)+1),""))} | AL51: =IF($D51<>"",'Schedule 2'!$G$15,"") | AN51: {=IF($D51="","",IFERROR(INDEX('Schedule 2'!$K$39:$IX$39,MATCH($D51,'Schedule 2'!$K$7:$IX$7,0)+1),""))} | AQ51: =IF($D51="","",ROUND(V51+AC51-AJ51,2)) | AS51: =IF($D51<>"",'Schedule 2'!$G$15,"") | AU51: =IF($D51="","",Z51+AG51-AN51) | AY51: {=IF($D51="","",IFERROR(INDEX('Schedule 3'!$K$26:$IX$26,MATCH($D51,'Schedule 3'!$K$24:$IX$24,0)+1),""))} | BA51: =IF($D51<>"",'Schedule 2'!$G$15,"") | BC51: =IF(AND(AY51<>"",BA51<>""),ROUND(AY51*BA51,2),"") | BE51: {=IF($D51="","",IFERROR(INDEX('Schedule 3'!$K$32:$IX$32,MATCH($D51,'Schedule 3'!$K$24:$IX$24,0)+1)+INDEX('Schedule 3'!$K$28:$IX$28,MATCH($D51,'Schedule 3'!$K$24:$IX$24,0)+1),""))} | BG51: =IF($D51<>"",'Schedule 2'!$G$15,"") | BI51: =IF(AND(BE51<>"",BG51<>""),ROUND(BE51*BG51,2),"") | BK51: {=IF($D51="","",IFERROR(INDEX('Schedule 3'!$K$34:$IX$34,MATCH($D51,'Schedule 3'!$K$24:$IX$24,0)+1),""))} | BM51: =IF($D51<>"",'Schedule 2'!$G$15,"") | BO51: =IF(AND(BK51<>"",BM51<>""),ROUND(BK51*BM51,2),"") | BS51: =IF($D51="","",IFERROR(INDEX('Schedule 1'!$K$76:$IX$76,MATCH($D51,'Schedule 1'!$K$70:$IX$70,0)),"")) | BW51: =IF($D51="","",IF(BS51='Helper 1'!$F$2,AN51,"")) | BY51: =IF($D51="","",IF(BS51='Helper 1'!$F$3,AN51,"")) | CA51: {=IF($D51="","",IF(BS51='Helper 1'!$F$2,IFERROR(INDEX('Schedule 2'!$K$41:$IX$41,MATCH($D51,'Schedule 2'!$K$29:$IX$29,0)+1),""),""))} | CC51: {=IF($D51="","",IF(BS51='Helper 1'!$F$3,IFERROR(INDEX('Schedule 2'!$K$41:$IX$41,MATCH($D51,'Schedule 2'!$K$29:$IX$29,0)+1),""),""))} | CE51: {=IF($D51="","",IF(BS51='Helper 1'!$F$2,IFERROR(INDEX('Schedule 2'!$K$43:$IX$43,MATCH($D51,'Schedule 2'!$K$29:$IX$29,0)+1),""),""))} | CG51: {=IF($D51="","",IF(BS51='Helper 1'!$F$3,IFERROR(INDEX('Schedule 2'!$K$43:$IX$43,MATCH($D51,'Schedule 2'!$K$29:$IX$29,0)+1),""),""))}
B52: ='Helper 1'!AE3 | D52: =IFERROR(INDEX('Helper 1'!$AA$2:$AA$51,MATCH(B52,'Helper 1'!$AD$2:$AD$51,0)),"") | G52: {=IF($D52="","",IFERROR(INDEX('Schedule 2'!$K$9:$IX$9,MATCH($D52,'Schedule 2'!$K$7:$IX$7,0)+1),""))} | I52: =IF(D52<>"",'Schedule 2'!$G$15,"") | K52: =IF(AND(G52<>"",I52<>""),ROUND(G52*I52,2),"") | N52: {=IF($D52="","",IFERROR(INDEX('Schedule 2'!$K$11:$IX$11,MATCH($D52,'Schedule 2'!$K$7:$IX$7,0)+1),""))} | P52: =IF($D52<>"",'Schedule 2'!$G$15,"") | R52: =IF(AND(N52<>"",P52<>""),ROUND(N52*P52,2),"") | V52: {=IF($D52="","",IFERROR(INDEX('Schedule 6'!$K$18:$IX$18,MATCH($D52,'Schedule 6'!$K$7:$IX$7,0)+1),""))} | X52: =IF($D52<>"",'Schedule 2'!$G$15,"") | Z52: =IF(AND(V52<>"",X52<>""),ROUND(V52*X52,2),"") | AC52: =IF($D52="","",G52+N52) | AE52: =IF($D52<>"",'Schedule 2'!$G$15,"") | AG52: =IF($D52="","",K52+R52) | AJ52: {=IF($D52="","",IFERROR(INDEX('Schedule 2'!$K$35:$IX$35,MATCH($D52,'Schedule 2'!$K$7:$IX$7,0)+1),""))} | AL52: =IF($D52<>"",'Schedule 2'!$G$15,"") | AN52: {=IF($D52="","",IFERROR(INDEX('Schedule 2'!$K$39:$IX$39,MATCH($D52,'Schedule 2'!$K$7:$IX$7,0)+1),""))} | AQ52: =IF($D52="","",ROUND(V52+AC52-AJ52,2)) | AS52: =IF($D52<>"",'Schedule 2'!$G$15,"") | AU52: =IF($D52="","",Z52+AG52-AN52) | AY52: {=IF($D52="","",IFERROR(INDEX('Schedule 3'!$K$26:$IX$26,MATCH($D52,'Schedule 3'!$K$24:$IX$24,0)+1),""))} | BA52: =IF($D52<>"",'Schedule 2'!$G$15,"") | BC52: =IF(AND(AY52<>"",BA52<>""),ROUND(AY52*BA52,2),"") | BE52: {=IF($D52="","",IFERROR(INDEX('Schedule 3'!$K$32:$IX$32,MATCH($D52,'Schedule 3'!$K$24:$IX$24,0)+1)+INDEX('Schedule 3'!$K$28:$IX$28,MATCH($D52,'Schedule 3'!$K$24:$IX$24,0)+1),""))} | BG52: =IF($D52<>"",'Schedule 2'!$G$15,"") | BI52: =IF(AND(BE52<>"",BG52<>""),ROUND(BE52*BG52,2),"") | BK52: {=IF($D52="","",IFERROR(INDEX('Schedule 3'!$K$34:$IX$34,MATCH($D52,'Schedule 3'!$K$24:$IX$24,0)+1),""))} | BM52: =IF($D52<>"",'Schedule 2'!$G$15,"") | BO52: =IF(AND(BK52<>"",BM52<>""),ROUND(BK52*BM52,2),"") | BS52: =IF($D52="","",IFERROR(INDEX('Schedule 1'!$K$76:$IX$76,MATCH($D52,'Schedule 1'!$K$70:$IX$70,0)),"")) | BW52: =IF($D52="","",IF(BS52='Helper 1'!$F$2,AN52,"")) | BY52: =IF($D52="","",IF(BS52='Helper 1'!$F$3,AN52,"")) | CA52: {=IF($D52="","",IF(BS52='Helper 1'!$F$2,IFERROR(INDEX('Schedule 2'!$K$41:$IX$41,MATCH($D52,'Schedule 2'!$K$29:$IX$29,0)+1),""),""))} | CC52: {=IF($D52="","",IF(BS52='Helper 1'!$F$3,IFERROR(INDEX('Schedule 2'!$K$41:$IX$41,MATCH($D52,'Schedule 2'!$K$29:$IX$29,0)+1),""),""))} | CE52: {=IF($D52="","",IF(BS52='Helper 1'!$F$2,IFERROR(INDEX('Schedule 2'!$K$43:$IX$43,MATCH($D52,'Schedule 2'!$K$29:$IX$29,0)+1),""),""))} | CG52: {=IF($D52="","",IF(BS52='Helper 1'!$F$3,IFERROR(INDEX('Schedule 2'!$K$43:$IX$43,MATCH($D52,'Schedule 2'!$K$29:$IX$29,0)+1),""),""))}
B53: ='Helper 1'!AE4 | D53: =IFERROR(INDEX('Helper 1'!$AA$2:$AA$51,MATCH(B53,'Helper 1'!$AD$2:$AD$51,0)),"") | G53: {=IF($D53="","",IFERROR(INDEX('Schedule 2'!$K$9:$IX$9,MATCH($D53,'Schedule 2'!$K$7:$IX$7,0)+1),""))} | I53: =IF(D53<>"",'Schedule 2'!$G$15,"") | K53: =IF(AND(G53<>"",I53<>""),ROUND(G53*I53,2),"") | N53: {=IF($D53="","",IFERROR(INDEX('Schedule 2'!$K$11:$IX$11,MATCH($D53,'Schedule 2'!$K$7:$IX$7,0)+1),""))} | P53: =IF($D53<>"",'Schedule 2'!$G$15,"") | R53: =IF(AND(N53<>"",P53<>""),ROUND(N53*P53,2),"") | V53: {=IF($D53="","",IFERROR(INDEX('Schedule 6'!$K$18:$IX$18,MATCH($D53,'Schedule 6'!$K$7:$IX$7,0)+1),""))} | X53: =IF($D53<>"",'Schedule 2'!$G$15,"") | Z53: =IF(AND(V53<>"",X53<>""),ROUND(V53*X53,2),"") | AC53: =IF($D53="","",G53+N53) | AE53: =IF($D53<>"",'Schedule 2'!$G$15,"") | AG53: =IF($D53="","",K53+R53) | AJ53: {=IF($D53="","",IFERROR(INDEX('Schedule 2'!$K$35:$IX$35,MATCH($D53,'Schedule 2'!$K$7:$IX$7,0)+1),""))} | AL53: =IF($D53<>"",'Schedule 2'!$G$15,"") | AN53: {=IF($D53="","",IFERROR(INDEX('Schedule 2'!$K$39:$IX$39,MATCH($D53,'Schedule 2'!$K$7:$IX$7,0)+1),""))} | AQ53: =IF($D53="","",ROUND(V53+AC53-AJ53,2)) | AS53: =IF($D53<>"",'Schedule 2'!$G$15,"") | AU53: =IF($D53="","",Z53+AG53-AN53) | AY53: {=IF($D53="","",IFERROR(INDEX('Schedule 3'!$K$26:$IX$26,MATCH($D53,'Schedule 3'!$K$24:$IX$24,0)+1),""))} | BA53: =IF($D53<>"",'Schedule 2'!$G$15,"") | BC53: =IF(AND(AY53<>"",BA53<>""),ROUND(AY53*BA53,2),"") | BE53: {=IF($D53="","",IFERROR(INDEX('Schedule 3'!$K$32:$IX$32,MATCH($D53,'Schedule 3'!$K$24:$IX$24,0)+1)+INDEX('Schedule 3'!$K$28:$IX$28,MATCH($D53,'Schedule 3'!$K$24:$IX$24,0)+1),""))} | BG53: =IF($D53<>"",'Schedule 2'!$G$15,"") | BI53: =IF(AND(BE53<>"",BG53<>""),ROUND(BE53*BG53,2),"") | BK53: {=IF($D53="","",IFERROR(INDEX('Schedule 3'!$K$34:$IX$34,MATCH($D53,'Schedule 3'!$K$24:$IX$24,0)+1),""))} | BM53: =IF($D53<>"",'Schedule 2'!$G$15,"") | BO53: =IF(AND(BK53<>"",BM53<>""),ROUND(BK53*BM53,2),"") | BS53: =IF($D53="","",IFERROR(INDEX('Schedule 1'!$K$76:$IX$76,MATCH($D53,'Schedule 1'!$K$70:$IX$70,0)),"")) | BW53: =IF($D53="","",IF(BS53='Helper 1'!$F$2,AN53,"")) | BY53: =IF($D53="","",IF(BS53='Helper 1'!$F$3,AN53,"")) | CA53: {=IF($D53="","",IF(BS53='Helper 1'!$F$2,IFERROR(INDEX('Schedule 2'!$K$41:$IX$41,MATCH($D53,'Schedule 2'!$K$29:$IX$29,0)+1),""),""))} | CC53: {=IF($D53="","",IF(BS53='Helper 1'!$F$3,IFERROR(INDEX('Schedule 2'!$K$41:$IX$41,MATCH($D53,'Schedule 2'!$K$29:$IX$29,0)+1),""),""))} | CE53: {=IF($D53="","",IF(BS53='Helper 1'!$F$2,IFERROR(INDEX('Schedule 2'!$K$43:$IX$43,MATCH($D53,'Schedule 2'!$K$29:$IX$29,0)+1),""),""))} | CG53: {=IF($D53="","",IF(BS53='Helper 1'!$F$3,IFERROR(INDEX('Schedule 2'!$K$43:$IX$43,MATCH($D53,'Schedule 2'!$K$29:$IX$29,0)+1),""),""))}
B54: ='Helper 1'!AE5 | D54: =IFERROR(INDEX('Helper 1'!$AA$2:$AA$51,MATCH(B54,'Helper 1'!$AD$2:$AD$51,0)),"") | G54: {=IF($D54="","",IFERROR(INDEX('Schedule 2'!$K$9:$IX$9,MATCH($D54,'Schedule 2'!$K$7:$IX$7,0)+1),""))} | I54: =IF(D54<>"",'Schedule 2'!$G$15,"") | K54: =IF(AND(G54<>"",I54<>""),ROUND(G54*I54,2),"") | N54: {=IF($D54="","",IFERROR(INDEX('Schedule 2'!$K$11:$IX$11,MATCH($D54,'Schedule 2'!$K$7:$IX$7,0)+1),""))} | P54: =IF($D54<>"",'Schedule 2'!$G$15,"") | R54: =IF(AND(N54<>"",P54<>""),ROUND(N54*P54,2),"") | V54: {=IF($D54="","",IFERROR(INDEX('Schedule 6'!$K$18:$IX$18,MATCH($D54,'Schedule 6'!$K$7:$IX$7,0)+1),""))} | X54: =IF($D54<>"",'Schedule 2'!$G$15,"") | Z54: =IF(AND(V54<>"",X54<>""),ROUND(V54*X54,2),"") | AC54: =IF($D54="","",G54+N54) | AE54: =IF($D54<>"",'Schedule 2'!$G$15,"") | AG54: =IF($D54="","",K54+R54) | AJ54: {=IF($D54="","",IFERROR(INDEX('Schedule 2'!$K$35:$IX$35,MATCH($D54,'Schedule 2'!$K$7:$IX$7,0)+1),""))} | AL54: =IF($D54<>"",'Schedule 2'!$G$15,"") | AN54: {=IF($D54="","",IFERROR(INDEX('Schedule 2'!$K$39:$IX$39,MATCH($D54,'Schedule 2'!$K$7:$IX$7,0)+1),""))} | AQ54: =IF($D54="","",ROUND(V54+AC54-AJ54,2)) | AS54: =IF($D54<>"",'Schedule 2'!$G$15,"") | AU54: =IF($D54="","",Z54+AG54-AN54) | AY54: {=IF($D54="","",IFERROR(INDEX('Schedule 3'!$K$26:$IX$26,MATCH($D54,'Schedule 3'!$K$24:$IX$24,0)+1),""))} | BA54: =IF($D54<>"",'Schedule 2'!$G$15,"") | BC54: =IF(AND(AY54<>"",BA54<>""),ROUND(AY54*BA54,2),"") | BE54: {=IF($D54="","",IFERROR(INDEX('Schedule 3'!$K$32:$IX$32,MATCH($D54,'Schedule 3'!$K$24:$IX$24,0)+1)+INDEX('Schedule 3'!$K$28:$IX$28,MATCH($D54,'Schedule 3'!$K$24:$IX$24,0)+1),""))} | BG54: =IF($D54<>"",'Schedule 2'!$G$15,"") | BI54: =IF(AND(BE54<>"",BG54<>""),ROUND(BE54*BG54,2),"") | BK54: {=IF($D54="","",IFERROR(INDEX('Schedule 3'!$K$34:$IX$34,MATCH($D54,'Schedule 3'!$K$24:$IX$24,0)+1),""))} | BM54: =IF($D54<>"",'Schedule 2'!$G$15,"") | BO54: =IF(AND(BK54<>"",BM54<>""),ROUND(BK54*BM54,2),"") | BS54: =IF($D54="","",IFERROR(INDEX('Schedule 1'!$K$76:$IX$76,MATCH($D54,'Schedule 1'!$K$70:$IX$70,0)),"")) | BW54: =IF($D54="","",IF(BS54='Helper 1'!$F$2,AN54,"")) | BY54: =IF($D54="","",IF(BS54='Helper 1'!$F$3,AN54,"")) | CA54: {=IF($D54="","",IF(BS54='Helper 1'!$F$2,IFERROR(INDEX('Schedule 2'!$K$41:$IX$41,MATCH($D54,'Schedule 2'!$K$29:$IX$29,0)+1),""),""))} | CC54: {=IF($D54="","",IF(BS54='Helper 1'!$F$3,IFERROR(INDEX('Schedule 2'!$K$41:$IX$41,MATCH($D54,'Schedule 2'!$K$29:$IX$29,0)+1),""),""))} | CE54: {=IF($D54="","",IF(BS54='Helper 1'!$F$2,IFERROR(INDEX('Schedule 2'!$K$43:$IX$43,MATCH($D54,'Schedule 2'!$K$29:$IX$29,0)+1),""),""))} | CG54: {=IF($D54="","",IF(BS54='Helper 1'!$F$3,IFERROR(INDEX('Schedule 2'!$K$43:$IX$43,MATCH($D54,'Schedule 2'!$K$29:$IX$29,0)+1),""),""))}
B55: ='Helper 1'!AE6 | D55: =IFERROR(INDEX('Helper 1'!$AA$2:$AA$51,MATCH(B55,'Helper 1'!$AD$2:$AD$51,0)),"") | G55: {=IF($D55="","",IFERROR(INDEX('Schedule 2'!$K$9:$IX$9,MATCH($D55,'Schedule 2'!$K$7:$IX$7,0)+1),""))} | I55: =IF(D55<>"",'Schedule 2'!$G$15,"") | K55: =IF(AND(G55<>"",I55<>""),ROUND(G55*I55,2),"") | N55: {=IF($D55="","",IFERROR(INDEX('Schedule 2'!$K$11:$IX$11,MATCH($D55,'Schedule 2'!$K$7:$IX$7,0)+1),""))} | P55: =IF($D55<>"",'Schedule 2'!$G$15,"") | R55: =IF(AND(N55<>"",P55<>""),ROUND(N55*P55,2),"") | V55: {=IF($D55="","",IFERROR(INDEX('Schedule 6'!$K$18:$IX$18,MATCH($D55,'Schedule 6'!$K$7:$IX$7,0)+1),""))} | X55: =IF($D55<>"",'Schedule 2'!$G$15,"") | Z55: =IF(AND(V55<>"",X55<>""),ROUND(V55*X55,2),"") | AC55: =IF($D55="","",G55+N55) | AE55: =IF($D55<>"",'Schedule 2'!$G$15,"") | AG55: =IF($D55="","",K55+R55) | AJ55: {=IF($D55="","",IFERROR(INDEX('Schedule 2'!$K$35:$IX$35,MATCH($D55,'Schedule 2'!$K$7:$IX$7,0)+1),""))} | AL55: =IF($D55<>"",'Schedule 2'!$G$15,"") | AN55: {=IF($D55="","",IFERROR(INDEX('Schedule 2'!$K$39:$IX$39,MATCH($D55,'Schedule 2'!$K$7:$IX$7,0)+1),""))} | AQ55: =IF($D55="","",ROUND(V55+AC55-AJ55,2)) | AS55: =IF($D55<>"",'Schedule 2'!$G$15,"") | AU55: =IF($D55="","",Z55+AG55-AN55) | AY55: {=IF($D55="","",IFERROR(INDEX('Schedule 3'!$K$26:$IX$26,MATCH($D55,'Schedule 3'!$K$24:$IX$24,0)+1),""))} | BA55: =IF($D55<>"",'Schedule 2'!$G$15,"") | BC55: =IF(AND(AY55<>"",BA55<>""),ROUND(AY55*BA55,2),"") | BE55: {=IF($D55="","",IFERROR(INDEX('Schedule 3'!$K$32:$IX$32,MATCH($D55,'Schedule 3'!$K$24:$IX$24,0)+1)+INDEX('Schedule 3'!$K$28:$IX$28,MATCH($D55,'Schedule 3'!$K$24:$IX$24,0)+1),""))} | BG55: =IF($D55<>"",'Schedule 2'!$G$15,"") | BI55: =IF(AND(BE55<>"",BG55<>""),ROUND(BE55*BG55,2),"") | BK55: {=IF($D55="","",IFERROR(INDEX('Schedule 3'!$K$34:$IX$34,MATCH($D55,'Schedule 3'!$K$24:$IX$24,0)+1),""))} | BM55: =IF($D55<>"",'Schedule 2'!$G$15,"") | BO55: =IF(AND(BK55<>"",BM55<>""),ROUND(BK55*BM55,2),"") | BS55: =IF($D55="","",IFERROR(INDEX('Schedule 1'!$K$76:$IX$76,MATCH($D55,'Schedule 1'!$K$70:$IX$70,0)),"")) | BW55: =IF($D55="","",IF(BS55='Helper 1'!$F$2,AN55,"")) | BY55: =IF($D55="","",IF(BS55='Helper 1'!$F$3,AN55,"")) | CA55: {=IF($D55="","",IF(BS55='Helper 1'!$F$2,IFERROR(INDEX('Schedule 2'!$K$41:$IX$41,MATCH($D55,'Schedule 2'!$K$29:$IX$29,0)+1),""),""))} | CC55: {=IF($D55="","",IF(BS55='Helper 1'!$F$3,IFERROR(INDEX('Schedule 2'!$K$41:$IX$41,MATCH($D55,'Schedule 2'!$K$29:$IX$29,0)+1),""),""))} | CE55: {=IF($D55="","",IF(BS55='Helper 1'!$F$2,IFERROR(INDEX('Schedule 2'!$K$43:$IX$43,MATCH($D55,'Schedule 2'!$K$29:$IX$29,0)+1),""),""))} | CG55: {=IF($D55="","",IF(BS55='Helper 1'!$F$3,IFERROR(INDEX('Schedule 2'!$K$43:$IX$43,MATCH($D55,'Schedule 2'!$K$29:$IX$29,0)+1),""),""))}
B56: ='Helper 1'!AE7 | D56: =IFERROR(INDEX('Helper 1'!$AA$2:$AA$51,MATCH(B56,'Helper 1'!$AD$2:$AD$51,0)),"") | G56: {=IF($D56="","",IFERROR(INDEX('Schedule 2'!$K$9:$IX$9,MATCH($D56,'Schedule 2'!$K$7:$IX$7,0)+1),""))} | I56: =IF(D56<>"",'Schedule 2'!$G$15,"") | K56: =IF(AND(G56<>"",I56<>""),ROUND(G56*I56,2),"") | N56: {=IF($D56="","",IFERROR(INDEX('Schedule 2'!$K$11:$IX$11,MATCH($D56,'Schedule 2'!$K$7:$IX$7,0)+1),""))} | P56: =IF($D56<>"",'Schedule 2'!$G$15,"") | R56: =IF(AND(N56<>"",P56<>""),ROUND(N56*P56,2),"") | V56: {=IF($D56="","",IFERROR(INDEX('Schedule 6'!$K$18:$IX$18,MATCH($D56,'Schedule 6'!$K$7:$IX$7,0)+1),""))} | X56: =IF($D56<>"",'Schedule 2'!$G$15,"") | Z56: =IF(AND(V56<>"",X56<>""),ROUND(V56*X56,2),"") | AC56: =IF($D56="","",G56+N56) | AE56: =IF($D56<>"",'Schedule 2'!$G$15,"") | AG56: =IF($D56="","",K56+R56) | AJ56: {=IF($D56="","",IFERROR(INDEX('Schedule 2'!$K$35:$IX$35,MATCH($D56,'Schedule 2'!$K$7:$IX$7,0)+1),""))} | AL56: =IF($D56<>"",'Schedule 2'!$G$15,"") | AN56: {=IF($D56="","",IFERROR(INDEX('Schedule 2'!$K$39:$IX$39,MATCH($D56,'Schedule 2'!$K$7:$IX$7,0)+1),""))} | AQ56: =IF($D56="","",ROUND(V56+AC56-AJ56,2)) | AS56: =IF($D56<>"",'Schedule 2'!$G$15,"") | AU56: =IF($D56="","",Z56+AG56-AN56) | AY56: {=IF($D56="","",IFERROR(INDEX('Schedule 3'!$K$26:$IX$26,MATCH($D56,'Schedule 3'!$K$24:$IX$24,0)+1),""))} | BA56: =IF($D56<>"",'Schedule 2'!$G$15,"") | BC56: =IF(AND(AY56<>"",BA56<>""),ROUND(AY56*BA56,2),"") | BE56: {=IF($D56="","",IFERROR(INDEX('Schedule 3'!$K$32:$IX$32,MATCH($D56,'Schedule 3'!$K$24:$IX$24,0)+1)+INDEX('Schedule 3'!$K$28:$IX$28,MATCH($D56,'Schedule 3'!$K$24:$IX$24,0)+1),""))} | BG56: =IF($D56<>"",'Schedule 2'!$G$15,"") | BI56: =IF(AND(BE56<>"",BG56<>""),ROUND(BE56*BG56,2),"") | BK56: {=IF($D56="","",IFERROR(INDEX('Schedule 3'!$K$34:$IX$34,MATCH($D56,'Schedule 3'!$K$24:$IX$24,0)+1),""))} | BM56: =IF($D56<>"",'Schedule 2'!$G$15,"") | BO56: =IF(AND(BK56<>"",BM56<>""),ROUND(BK56*BM56,2),"") | BS56: =IF($D56="","",IFERROR(INDEX('Schedule 1'!$K$76:$IX$76,MATCH($D56,'Schedule 1'!$K$70:$IX$70,0)),"")) | BW56: =IF($D56="","",IF(BS56='Helper 1'!$F$2,AN56,"")) | BY56: =IF($D56="","",IF(BS56='Helper 1'!$F$3,AN56,"")) | CA56: {=IF($D56="","",IF(BS56='Helper 1'!$F$2,IFERROR(INDEX('Schedule 2'!$K$41:$IX$41,MATCH($D56,'Schedule 2'!$K$29:$IX$29,0)+1),""),""))} | CC56: {=IF($D56="","",IF(BS56='Helper 1'!$F$3,IFERROR(INDEX('Schedule 2'!$K$41:$IX$41,MATCH($D56,'Schedule 2'!$K$29:$IX$29,0)+1),""),""))} | CE56: {=IF($D56="","",IF(BS56='Helper 1'!$F$2,IFERROR(INDEX('Schedule 2'!$K$43:$IX$43,MATCH($D56,'Schedule 2'!$K$29:$IX$29,0)+1),""),""))} | CG56: {=IF($D56="","",IF(BS56='Helper 1'!$F$3,IFERROR(INDEX('Schedule 2'!$K$43:$IX$43,MATCH($D56,'Schedule 2'!$K$29:$IX$29,0)+1),""),""))}
B57: ='Helper 1'!AE8 | D57: =IFERROR(INDEX('Helper 1'!$AA$2:$AA$51,MATCH(B57,'Helper 1'!$AD$2:$AD$51,0)),"") | G57: {=IF($D57="","",IFERROR(INDEX('Schedule 2'!$K$9:$IX$9,MATCH($D57,'Schedule 2'!$K$7:$IX$7,0)+1),""))} | I57: =IF(D57<>"",'Schedule 2'!$G$15,"") | K57: =IF(AND(G57<>"",I57<>""),ROUND(G57*I57,2),"") | N57: {=IF($D57="","",IFERROR(INDEX('Schedule 2'!$K$11:$IX$11,MATCH($D57,'Schedule 2'!$K$7:$IX$7,0)+1),""))} | P57: =IF($D57<>"",'Schedule 2'!$G$15,"") | R57: =IF(AND(N57<>"",P57<>""),ROUND(N57*P57,2),"") | V57: {=IF($D57="","",IFERROR(INDEX('Schedule 6'!$K$18:$IX$18,MATCH($D57,'Schedule 6'!$K$7:$IX$7,0)+1),""))} | X57: =IF($D57<>"",'Schedule 2'!$G$15,"") | Z57: =IF(AND(V57<>"",X57<>""),ROUND(V57*X57,2),"") | AC57: =IF($D57="","",G57+N57) | AE57: =IF($D57<>"",'Schedule 2'!$G$15,"") | AG57: =IF($D57="","",K57+R57) | AJ57: {=IF($D57="","",IFERROR(INDEX('Schedule 2'!$K$35:$IX$35,MATCH($D57,'Schedule 2'!$K$7:$IX$7,0)+1),""))} | AL57: =IF($D57<>"",'Schedule 2'!$G$15,"") | AN57: {=IF($D57="","",IFERROR(INDEX('Schedule 2'!$K$39:$IX$39,MATCH($D57,'Schedule 2'!$K$7:$IX$7,0)+1),""))} | AQ57: =IF($D57="","",ROUND(V57+AC57-AJ57,2)) | AS57: =IF($D57<>"",'Schedule 2'!$G$15,"") | AU57: =IF($D57="","",Z57+AG57-AN57) | AY57: {=IF($D57="","",IFERROR(INDEX('Schedule 3'!$K$26:$IX$26,MATCH($D57,'Schedule 3'!$K$24:$IX$24,0)+1),""))} | BA57: =IF($D57<>"",'Schedule 2'!$G$15,"") | BC57: =IF(AND(AY57<>"",BA57<>""),ROUND(AY57*BA57,2),"") | BE57: {=IF($D57="","",IFERROR(INDEX('Schedule 3'!$K$32:$IX$32,MATCH($D57,'Schedule 3'!$K$24:$IX$24,0)+1)+INDEX('Schedule 3'!$K$28:$IX$28,MATCH($D57,'Schedule 3'!$K$24:$IX$24,0)+1),""))} | BG57: =IF($D57<>"",'Schedule 2'!$G$15,"") | BI57: =IF(AND(BE57<>"",BG57<>""),ROUND(BE57*BG57,2),"") | BK57: {=IF($D57="","",IFERROR(INDEX('Schedule 3'!$K$34:$IX$34,MATCH($D57,'Schedule 3'!$K$24:$IX$24,0)+1),""))} | BM57: =IF($D57<>"",'Schedule 2'!$G$15,"") | BO57: =IF(AND(BK57<>"",BM57<>""),ROUND(BK57*BM57,2),"") | BS57: =IF($D57="","",IFERROR(INDEX('Schedule 1'!$K$76:$IX$76,MATCH($D57,'Schedule 1'!$K$70:$IX$70,0)),"")) | BW57: =IF($D57="","",IF(BS57='Helper 1'!$F$2,AN57,"")) | BY57: =IF($D57="","",IF(BS57='Helper 1'!$F$3,AN57,"")) | CA57: {=IF($D57="","",IF(BS57='Helper 1'!$F$2,IFERROR(INDEX('Schedule 2'!$K$41:$IX$41,MATCH($D57,'Schedule 2'!$K$29:$IX$29,0)+1),""),""))} | CC57: {=IF($D57="","",IF(BS57='Helper 1'!$F$3,IFERROR(INDEX('Schedule 2'!$K$41:$IX$41,MATCH($D57,'Schedule 2'!$K$29:$IX$29,0)+1),""),""))} | CE57: {=IF($D57="","",IF(BS57='Helper 1'!$F$2,IFERROR(INDEX('Schedule 2'!$K$43:$IX$43,MATCH($D57,'Schedule 2'!$K$29:$IX$29,0)+1),""),""))} | CG57: {=IF($D57="","",IF(BS57='Helper 1'!$F$3,IFERROR(INDEX('Schedule 2'!$K$43:$IX$43,MATCH($D57,'Schedule 2'!$K$29:$IX$29,0)+1),""),""))}
B58: ='Helper 1'!AE9 | D58: =IFERROR(INDEX('Helper 1'!$AA$2:$AA$51,MATCH(B58,'Helper 1'!$AD$2:$AD$51,0)),"") | G58: {=IF($D58="","",IFERROR(INDEX('Schedule 2'!$K$9:$IX$9,MATCH($D58,'Schedule 2'!$K$7:$IX$7,0)+1),""))} | I58: =IF(D58<>"",'Schedule 2'!$G$15,"") | K58: =IF(AND(G58<>"",I58<>""),ROUND(G58*I58,2),"") | N58: {=IF($D58="","",IFERROR(INDEX('Schedule 2'!$K$11:$IX$11,MATCH($D58,'Schedule 2'!$K$7:$IX$7,0)+1),""))} | P58: =IF($D58<>"",'Schedule 2'!$G$15,"") | R58: =IF(AND(N58<>"",P58<>""),ROUND(N58*P58,2),"") | V58: {=IF($D58="","",IFERROR(INDEX('Schedule 6'!$K$18:$IX$18,MATCH($D58,'Schedule 6'!$K$7:$IX$7,0)+1),""))} | X58: =IF($D58<>"",'Schedule 2'!$G$15,"") | Z58: =IF(AND(V58<>"",X58<>""),ROUND(V58*X58,2),"") | AC58: =IF($D58="","",G58+N58) | AE58: =IF($D58<>"",'Schedule 2'!$G$15,"") | AG58: =IF($D58="","",K58+R58) | AJ58: {=IF($D58="","",IFERROR(INDEX('Schedule 2'!$K$35:$IX$35,MATCH($D58,'Schedule 2'!$K$7:$IX$7,0)+1),""))} | AL58: =IF($D58<>"",'Schedule 2'!$G$15,"") | AN58: {=IF($D58="","",IFERROR(INDEX('Schedule 2'!$K$39:$IX$39,MATCH($D58,'Schedule 2'!$K$7:$IX$7,0)+1),""))} | AQ58: =IF($D58="","",ROUND(V58+AC58-AJ58,2)) | AS58: =IF($D58<>"",'Schedule 2'!$G$15,"") | AU58: =IF($D58="","",Z58+AG58-AN58) | AY58: {=IF($D58="","",IFERROR(INDEX('Schedule 3'!$K$26:$IX$26,MATCH($D58,'Schedule 3'!$K$24:$IX$24,0)+1),""))} | BA58: =IF($D58<>"",'Schedule 2'!$G$15,"") | BC58: =IF(AND(AY58<>"",BA58<>""),ROUND(AY58*BA58,2),"") | BE58: {=IF($D58="","",IFERROR(INDEX('Schedule 3'!$K$32:$IX$32,MATCH($D58,'Schedule 3'!$K$24:$IX$24,0)+1)+INDEX('Schedule 3'!$K$28:$IX$28,MATCH($D58,'Schedule 3'!$K$24:$IX$24,0)+1),""))} | BG58: =IF($D58<>"",'Schedule 2'!$G$15,"") | BI58: =IF(AND(BE58<>"",BG58<>""),ROUND(BE58*BG58,2),"") | BK58: {=IF($D58="","",IFERROR(INDEX('Schedule 3'!$K$34:$IX$34,MATCH($D58,'Schedule 3'!$K$24:$IX$24,0)+1),""))} | BM58: =IF($D58<>"",'Schedule 2'!$G$15,"") | BO58: =IF(AND(BK58<>"",BM58<>""),ROUND(BK58*BM58,2),"") | BS58: =IF($D58="","",IFERROR(INDEX('Schedule 1'!$K$76:$IX$76,MATCH($D58,'Schedule 1'!$K$70:$IX$70,0)),"")) | BW58: =IF($D58="","",IF(BS58='Helper 1'!$F$2,AN58,"")) | BY58: =IF($D58="","",IF(BS58='Helper 1'!$F$3,AN58,"")) | CA58: {=IF($D58="","",IF(BS58='Helper 1'!$F$2,IFERROR(INDEX('Schedule 2'!$K$41:$IX$41,MATCH($D58,'Schedule 2'!$K$29:$IX$29,0)+1),""),""))} | CC58: {=IF($D58="","",IF(BS58='Helper 1'!$F$3,IFERROR(INDEX('Schedule 2'!$K$41:$IX$41,MATCH($D58,'Schedule 2'!$K$29:$IX$29,0)+1),""),""))} | CE58: {=IF($D58="","",IF(BS58='Helper 1'!$F$2,IFERROR(INDEX('Schedule 2'!$K$43:$IX$43,MATCH($D58,'Schedule 2'!$K$29:$IX$29,0)+1),""),""))} | CG58: {=IF($D58="","",IF(BS58='Helper 1'!$F$3,IFERROR(INDEX('Schedule 2'!$K$43:$IX$43,MATCH($D58,'Schedule 2'!$K$29:$IX$29,0)+1),""),""))}
B59: ='Helper 1'!AE10 | D59: =IFERROR(INDEX('Helper 1'!$AA$2:$AA$51,MATCH(B59,'Helper 1'!$AD$2:$AD$51,0)),"") | G59: {=IF($D59="","",IFERROR(INDEX('Schedule 2'!$K$9:$IX$9,MATCH($D59,'Schedule 2'!$K$7:$IX$7,0)+1),""))} | I59: =IF(D59<>"",'Schedule 2'!$G$15,"") | K59: =IF(AND(G59<>"",I59<>""),ROUND(G59*I59,2),"") | N59: {=IF($D59="","",IFERROR(INDEX('Schedule 2'!$K$11:$IX$11,MATCH($D59,'Schedule 2'!$K$7:$IX$7,0)+1),""))} | P59: =IF($D59<>"",'Schedule 2'!$G$15,"") | R59: =IF(AND(N59<>"",P59<>""),ROUND(N59*P59,2),"") | V59: {=IF($D59="","",IFERROR(INDEX('Schedule 6'!$K$18:$IX$18,MATCH($D59,'Schedule 6'!$K$7:$IX$7,0)+1),""))} | X59: =IF($D59<>"",'Schedule 2'!$G$15,"") | Z59: =IF(AND(V59<>"",X59<>""),ROUND(V59*X59,2),"") | AC59: =IF($D59="","",G59+N59) | AE59: =IF($D59<>"",'Schedule 2'!$G$15,"") | AG59: =IF($D59="","",K59+R59) | AJ59: {=IF($D59="","",IFERROR(INDEX('Schedule 2'!$K$35:$IX$35,MATCH($D59,'Schedule 2'!$K$7:$IX$7,0)+1),""))} | AL59: =IF($D59<>"",'Schedule 2'!$G$15,"") | AN59: {=IF($D59="","",IFERROR(INDEX('Schedule 2'!$K$39:$IX$39,MATCH($D59,'Schedule 2'!$K$7:$IX$7,0)+1),""))} | AQ59: =IF($D59="","",ROUND(V59+AC59-AJ59,2)) | AS59: =IF($D59<>"",'Schedule 2'!$G$15,"") | AU59: =IF($D59="","",Z59+AG59-AN59) | AY59: {=IF($D59="","",IFERROR(INDEX('Schedule 3'!$K$26:$IX$26,MATCH($D59,'Schedule 3'!$K$24:$IX$24,0)+1),""))} | BA59: =IF($D59<>"",'Schedule 2'!$G$15,"") | BC59: =IF(AND(AY59<>"",BA59<>""),ROUND(AY59*BA59,2),"") | BE59: {=IF($D59="","",IFERROR(INDEX('Schedule 3'!$K$32:$IX$32,MATCH($D59,'Schedule 3'!$K$24:$IX$24,0)+1)+INDEX('Schedule 3'!$K$28:$IX$28,MATCH($D59,'Schedule 3'!$K$24:$IX$24,0)+1),""))} | BG59: =IF($D59<>"",'Schedule 2'!$G$15,"") | BI59: =IF(AND(BE59<>"",BG59<>""),ROUND(BE59*BG59,2),"") | BK59: {=IF($D59="","",IFERROR(INDEX('Schedule 3'!$K$34:$IX$34,MATCH($D59,'Schedule 3'!$K$24:$IX$24,0)+1),""))} | BM59: =IF($D59<>"",'Schedule 2'!$G$15,"") | BO59: =IF(AND(BK59<>"",BM59<>""),ROUND(BK59*BM59,2),"") | BS59: =IF($D59="","",IFERROR(INDEX('Schedule 1'!$K$76:$IX$76,MATCH($D59,'Schedule 1'!$K$70:$IX$70,0)),"")) | BW59: =IF($D59="","",IF(BS59='Helper 1'!$F$2,AN59,"")) | BY59: =IF($D59="","",IF(BS59='Helper 1'!$F$3,AN59,"")) | CA59: {=IF($D59="","",IF(BS59='Helper 1'!$F$2,IFERROR(INDEX('Schedule 2'!$K$41:$IX$41,MATCH($D59,'Schedule 2'!$K$29:$IX$29,0)+1),""),""))} | CC59: {=IF($D59="","",IF(BS59='Helper 1'!$F$3,IFERROR(INDEX('Schedule 2'!$K$41:$IX$41,MATCH($D59,'Schedule 2'!$K$29:$IX$29,0)+1),""),""))} | CE59: {=IF($D59="","",IF(BS59='Helper 1'!$F$2,IFERROR(INDEX('Schedule 2'!$K$43:$IX$43,MATCH($D59,'Schedule 2'!$K$29:$IX$29,0)+1),""),""))} | CG59: {=IF($D59="","",IF(BS59='Helper 1'!$F$3,IFERROR(INDEX('Schedule 2'!$K$43:$IX$43,MATCH($D59,'Schedule 2'!$K$29:$IX$29,0)+1),""),""))}
B60: ='Helper 1'!AE11 | D60: =IFERROR(INDEX('Helper 1'!$AA$2:$AA$51,MATCH(B60,'Helper 1'!$AD$2:$AD$51,0)),"") | G60: {=IF($D60="","",IFERROR(INDEX('Schedule 2'!$K$9:$IX$9,MATCH($D60,'Schedule 2'!$K$7:$IX$7,0)+1),""))} | I60: =IF(D60<>"",'Schedule 2'!$G$15,"") | K60: =IF(AND(G60<>"",I60<>""),ROUND(G60*I60,2),"") | N60: {=IF($D60="","",IFERROR(INDEX('Schedule 2'!$K$11:$IX$11,MATCH($D60,'Schedule 2'!$K$7:$IX$7,0)+1),""))} | P60: =IF($D60<>"",'Schedule 2'!$G$15,"") | R60: =IF(AND(N60<>"",P60<>""),ROUND(N60*P60,2),"") | V60: {=IF($D60="","",IFERROR(INDEX('Schedule 6'!$K$18:$IX$18,MATCH($D60,'Schedule 6'!$K$7:$IX$7,0)+1),""))} | X60: =IF($D60<>"",'Schedule 2'!$G$15,"") | Z60: =IF(AND(V60<>"",X60<>""),ROUND(V60*X60,2),"") | AC60: =IF($D60="","",G60+N60) | AE60: =IF($D60<>"",'Schedule 2'!$G$15,"") | AG60: =IF($D60="","",K60+R60) | AJ60: {=IF($D60="","",IFERROR(INDEX('Schedule 2'!$K$35:$IX$35,MATCH($D60,'Schedule 2'!$K$7:$IX$7,0)+1),""))} | AL60: =IF($D60<>"",'Schedule 2'!$G$15,"") | AN60: {=IF($D60="","",IFERROR(INDEX('Schedule 2'!$K$39:$IX$39,MATCH($D60,'Schedule 2'!$K$7:$IX$7,0)+1),""))} | AQ60: =IF($D60="","",ROUND(V60+AC60-AJ60,2)) | AS60: =IF($D60<>"",'Schedule 2'!$G$15,"") | AU60: =IF($D60="","",Z60+AG60-AN60) | AY60: {=IF($D60="","",IFERROR(INDEX('Schedule 3'!$K$26:$IX$26,MATCH($D60,'Schedule 3'!$K$24:$IX$24,0)+1),""))} | BA60: =IF($D60<>"",'Schedule 2'!$G$15,"") | BC60: =IF(AND(AY60<>"",BA60<>""),ROUND(AY60*BA60,2),"") | BE60: {=IF($D60="","",IFERROR(INDEX('Schedule 3'!$K$32:$IX$32,MATCH($D60,'Schedule 3'!$K$24:$IX$24,0)+1)+INDEX('Schedule 3'!$K$28:$IX$28,MATCH($D60,'Schedule 3'!$K$24:$IX$24,0)+1),""))} | BG60: =IF($D60<>"",'Schedule 2'!$G$15,"") | BI60: =IF(AND(BE60<>"",BG60<>""),ROUND(BE60*BG60,2),"") | BK60: {=IF($D60="","",IFERROR(INDEX('Schedule 3'!$K$34:$IX$34,MATCH($D60,'Schedule 3'!$K$24:$IX$24,0)+1),""))} | BM60: =IF($D60<>"",'Schedule 2'!$G$15,"") | BO60: =IF(AND(BK60<>"",BM60<>""),ROUND(BK60*BM60,2),"") | BS60: =IF($D60="","",IFERROR(INDEX('Schedule 1'!$K$76:$IX$76,MATCH($D60,'Schedule 1'!$K$70:$IX$70,0)),"")) | BW60: =IF($D60="","",IF(BS60='Helper 1'!$F$2,AN60,"")) | BY60: =IF($D60="","",IF(BS60='Helper 1'!$F$3,AN60,"")) | CA60: {=IF($D60="","",IF(BS60='Helper 1'!$F$2,IFERROR(INDEX('Schedule 2'!$K$41:$IX$41,MATCH($D60,'Schedule 2'!$K$29:$IX$29,0)+1),""),""))} | CC60: {=IF($D60="","",IF(BS60='Helper 1'!$F$3,IFERROR(INDEX('Schedule 2'!$K$41:$IX$41,MATCH($D60,'Schedule 2'!$K$29:$IX$29,0)+1),""),""))} | CE60: {=IF($D60="","",IF(BS60='Helper 1'!$F$2,IFERROR(INDEX('Schedule 2'!$K$43:$IX$43,MATCH($D60,'Schedule 2'!$K$29:$IX$29,0)+1),""),""))} | CG60: {=IF($D60="","",IF(BS60='Helper 1'!$F$3,IFERROR(INDEX('Schedule 2'!$K$43:$IX$43,MATCH($D60,'Schedule 2'!$K$29:$IX$29,0)+1),""),""))}
B61: ='Helper 1'!AE12 | D61: =IFERROR(INDEX('Helper 1'!$AA$2:$AA$51,MATCH(B61,'Helper 1'!$AD$2:$AD$51,0)),"") | G61: {=IF($D61="","",IFERROR(INDEX('Schedule 2'!$K$9:$IX$9,MATCH($D61,'Schedule 2'!$K$7:$IX$7,0)+1),""))} | I61: =IF(D61<>"",'Schedule 2'!$G$15,"") | K61: =IF(AND(G61<>"",I61<>""),ROUND(G61*I61,2),"") | N61: {=IF($D61="","",IFERROR(INDEX('Schedule 2'!$K$11:$IX$11,MATCH($D61,'Schedule 2'!$K$7:$IX$7,0)+1),""))} | P61: =IF($D61<>"",'Schedule 2'!$G$15,"") | R61: =IF(AND(N61<>"",P61<>""),ROUND(N61*P61,2),"") | V61: {=IF($D61="","",IFERROR(INDEX('Schedule 6'!$K$18:$IX$18,MATCH($D61,'Schedule 6'!$K$7:$IX$7,0)+1),""))} | X61: =IF($D61<>"",'Schedule 2'!$G$15,"") | Z61: =IF(AND(V61<>"",X61<>""),ROUND(V61*X61,2),"") | AC61: =IF($D61="","",G61+N61) | AE61: =IF($D61<>"",'Schedule 2'!$G$15,"") | AG61: =IF($D61="","",K61+R61) | AJ61: {=IF($D61="","",IFERROR(INDEX('Schedule 2'!$K$35:$IX$35,MATCH($D61,'Schedule 2'!$K$7:$IX$7,0)+1),""))} | AL61: =IF($D61<>"",'Schedule 2'!$G$15,"") | AN61: {=IF($D61="","",IFERROR(INDEX('Schedule 2'!$K$39:$IX$39,MATCH($D61,'Schedule 2'!$K$7:$IX$7,0)+1),""))} | AQ61: =IF($D61="","",ROUND(V61+AC61-AJ61,2)) | AS61: =IF($D61<>"",'Schedule 2'!$G$15,"") | AU61: =IF($D61="","",Z61+AG61-AN61) | AY61: {=IF($D61="","",IFERROR(INDEX('Schedule 3'!$K$26:$IX$26,MATCH($D61,'Schedule 3'!$K$24:$IX$24,0)+1),""))} | BA61: =IF($D61<>"",'Schedule 2'!$G$15,"") | BC61: =IF(AND(AY61<>"",BA61<>""),ROUND(AY61*BA61,2),"") | BE61: {=IF($D61="","",IFERROR(INDEX('Schedule 3'!$K$32:$IX$32,MATCH($D61,'Schedule 3'!$K$24:$IX$24,0)+1)+INDEX('Schedule 3'!$K$28:$IX$28,MATCH($D61,'Schedule 3'!$K$24:$IX$24,0)+1),""))} | BG61: =IF($D61<>"",'Schedule 2'!$G$15,"") | BI61: =IF(AND(BE61<>"",BG61<>""),ROUND(BE61*BG61,2),"") | BK61: {=IF($D61="","",IFERROR(INDEX('Schedule 3'!$K$34:$IX$34,MATCH($D61,'Schedule 3'!$K$24:$IX$24,0)+1),""))} | BM61: =IF($D61<>"",'Schedule 2'!$G$15,"") | BO61: =IF(AND(BK61<>"",BM61<>""),ROUND(BK61*BM61,2),"") | BS61: =IF($D61="","",IFERROR(INDEX('Schedule 1'!$K$76:$IX$76,MATCH($D61,'Schedule 1'!$K$70:$IX$70,0)),"")) | BW61: =IF($D61="","",IF(BS61='Helper 1'!$F$2,AN61,"")) | BY61: =IF($D61="","",IF(BS61='Helper 1'!$F$3,AN61,"")) | CA61: {=IF($D61="","",IF(BS61='Helper 1'!$F$2,IFERROR(INDEX('Schedule 2'!$K$41:$IX$41,MATCH($D61,'Schedule 2'!$K$29:$IX$29,0)+1),""),""))} | CC61: {=IF($D61="","",IF(BS61='Helper 1'!$F$3,IFERROR(INDEX('Schedule 2'!$K$41:$IX$41,MATCH($D61,'Schedule 2'!$K$29:$IX$29,0)+1),""),""))} | CE61: {=IF($D61="","",IF(BS61='Helper 1'!$F$2,IFERROR(INDEX('Schedule 2'!$K$43:$IX$43,MATCH($D61,'Schedule 2'!$K$29:$IX$29,0)+1),""),""))} | CG61: {=IF($D61="","",IF(BS61='Helper 1'!$F$3,IFERROR(INDEX('Schedule 2'!$K$43:$IX$43,MATCH($D61,'Schedule 2'!$K$29:$IX$29,0)+1),""),""))}
B62: ='Helper 1'!AE13 | D62: =IFERROR(INDEX('Helper 1'!$AA$2:$AA$51,MATCH(B62,'Helper 1'!$AD$2:$AD$51,0)),"") | G62: {=IF($D62="","",IFERROR(INDEX('Schedule 2'!$K$9:$IX$9,MATCH($D62,'Schedule 2'!$K$7:$IX$7,0)+1),""))} | I62: =IF(D62<>"",'Schedule 2'!$G$15,"") | K62: =IF(AND(G62<>"",I62<>""),ROUND(G62*I62,2),"") | N62: {=IF($D62="","",IFERROR(INDEX('Schedule 2'!$K$11:$IX$11,MATCH($D62,'Schedule 2'!$K$7:$IX$7,0)+1),""))} | P62: =IF($D62<>"",'Schedule 2'!$G$15,"") | R62: =IF(AND(N62<>"",P62<>""),ROUND(N62*P62,2),"") | V62: {=IF($D62="","",IFERROR(INDEX('Schedule 6'!$K$18:$IX$18,MATCH($D62,'Schedule 6'!$K$7:$IX$7,0)+1),""))} | X62: =IF($D62<>"",'Schedule 2'!$G$15,"") | Z62: =IF(AND(V62<>"",X62<>""),ROUND(V62*X62,2),"") | AC62: =IF($D62="","",G62+N62) | AE62: =IF($D62<>"",'Schedule 2'!$G$15,"") | AG62: =IF($D62="","",K62+R62) | AJ62: {=IF($D62="","",IFERROR(INDEX('Schedule 2'!$K$35:$IX$35,MATCH($D62,'Schedule 2'!$K$7:$IX$7,0)+1),""))} | AL62: =IF($D62<>"",'Schedule 2'!$G$15,"") | AN62: {=IF($D62="","",IFERROR(INDEX('Schedule 2'!$K$39:$IX$39,MATCH($D62,'Schedule 2'!$K$7:$IX$7,0)+1),""))} | AQ62: =IF($D62="","",ROUND(V62+AC62-AJ62,2)) | AS62: =IF($D62<>"",'Schedule 2'!$G$15,"") | AU62: =IF($D62="","",Z62+AG62-AN62) | AY62: {=IF($D62="","",IFERROR(INDEX('Schedule 3'!$K$26:$IX$26,MATCH($D62,'Schedule 3'!$K$24:$IX$24,0)+1),""))} | BA62: =IF($D62<>"",'Schedule 2'!$G$15,"") | BC62: =IF(AND(AY62<>"",BA62<>""),ROUND(AY62*BA62,2),"") | BE62: {=IF($D62="","",IFERROR(INDEX('Schedule 3'!$K$32:$IX$32,MATCH($D62,'Schedule 3'!$K$24:$IX$24,0)+1)+INDEX('Schedule 3'!$K$28:$IX$28,MATCH($D62,'Schedule 3'!$K$24:$IX$24,0)+1),""))} | BG62: =IF($D62<>"",'Schedule 2'!$G$15,"") | BI62: =IF(AND(BE62<>"",BG62<>""),ROUND(BE62*BG62,2),"") | BK62: {=IF($D62="","",IFERROR(INDEX('Schedule 3'!$K$34:$IX$34,MATCH($D62,'Schedule 3'!$K$24:$IX$24,0)+1),""))} | BM62: =IF($D62<>"",'Schedule 2'!$G$15,"") | BO62: =IF(AND(BK62<>"",BM62<>""),ROUND(BK62*BM62,2),"") | BS62: =IF($D62="","",IFERROR(INDEX('Schedule 1'!$K$76:$IX$76,MATCH($D62,'Schedule 1'!$K$70:$IX$70,0)),"")) | BW62: =IF($D62="","",IF(BS62='Helper 1'!$F$2,AN62,"")) | BY62: =IF($D62="","",IF(BS62='Helper 1'!$F$3,AN62,"")) | CA62: {=IF($D62="","",IF(BS62='Helper 1'!$F$2,IFERROR(INDEX('Schedule 2'!$K$41:$IX$41,MATCH($D62,'Schedule 2'!$K$29:$IX$29,0)+1),""),""))} | CC62: {=IF($D62="","",IF(BS62='Helper 1'!$F$3,IFERROR(INDEX('Schedule 2'!$K$41:$IX$41,MATCH($D62,'Schedule 2'!$K$29:$IX$29,0)+1),""),""))} | CE62: {=IF($D62="","",IF(BS62='Helper 1'!$F$2,IFERROR(INDEX('Schedule 2'!$K$43:$IX$43,MATCH($D62,'Schedule 2'!$K$29:$IX$29,0)+1),""),""))} | CG62: {=IF($D62="","",IF(BS62='Helper 1'!$F$3,IFERROR(INDEX('Schedule 2'!$K$43:$IX$43,MATCH($D62,'Schedule 2'!$K$29:$IX$29,0)+1),""),""))}
...

Sheet Schedule 1
A1: TCB Return Schedules (Form S-201)
A2: Schedule 1: General Information
C5: Section A: Group information
C7: Section A should be completed with respect to the group which includes the Qualifying Bermuda Group for which the TCB return is being filed. | G7: Group
C9: S1A1 | D9: Name of the Ultimate Parent Entity ("UPE") of the group
C12: S1A2 | D12: Bermuda Tax Identification Number ("TIN") of the UPE, if applicable
C13: S1A3 | D13: DUNS number of the UPE (to the extent that the UPE is not a QBGE and has a DUNS number)
C15: S1A4 | D15: First day of the fiscal year of the group which includes the tax credit determination period for which the TCB return is being filed
C16: S1A5 | D16: Last day of the fiscal year of the group which includes the tax credit determination period for which the TCB return is being filed
C18: S1A6 | D18: Financial accounting standard used to prepare the financial statements of the group
C20: S1A7 | D20: Currency in which the financial statements of the group are presented
C21: S1A8 | D21: To the extent that "Other (FC)" is selected in item S1A7, provide a description of the relevant currency
C23: S1A9 | D23: To the extent that a currency other than "U.S. Dollar (USD)" or "Bermuda Dollar (BMD)" is selected in item S1A7, indicate the average
D24: foreign exchange rate (rounded to four decimal places) determined in accordance with section 34 with respect to:
D26: - the fiscal year described in items S1A4 and S1A5, to the extent that "Section 33" has not been selected in item S1B5; or
D27: - the period described in items S1B6 and S1B7, to the extent that "Section 33" has been selected in item S1B5,
D29: to be multiplied by non-U.S. dollar denominated tax credit benefit amounts for the purposes of conversion into U.S. dollars.
C32: Section B: Bermuda Group information
G34: Bermuda Group
C36: S1B1 | D36: Select whether this return is an original return or an amended return
C38: S1B2 | D38: Indicate whether this return is a final return
C40: S1B3 | D40: Indicate whether supplemental disclosures are being made with respect to this return (section 38(2)(b))
C42: S1B4 | D42: Group TIN assigned to the Bermuda Group for tax credit purposes
C44: S1B5 | D44: Indicate whether this return is being filed with respect to a tax credit determination period which represents only a portion
D45: of the fiscal year of the group described in items S1A4 and S1A5, pursuant to the application of section 33
D47: To the extent that "Section 33" has been selected in item S1B5, indicate the first and last day of the tax credit determination
D48: period resulting from the application of section 33.
C49: S1B6 | D49: First day of the tax credit determination period
C50: S1B7 | D50: Last day of the tax credit determination period
C52: S1B8 | D52: Indicate whether the Bermuda Group derived more than 50% of its aggregate gross revenues for the tax credit determination
D53: period from the following:
D55: - one or more Bermuda Entities which are registered as an insurer by the Bermuda Monetary Authority under the
D56: Insurance Act 1978 (section 6(2)(a))
D58: - allocations of gross revenues from investment holding entities to Bermuda Entities which are registered as an insurer
D59: by the Bermuda Monetary Authority (section 6(2)(b)(ii))
C61: S1B9 | D61: Based on the information provided in this schedule, does the Bermuda Group meet the requirements to be treated as a | G61: =IF(G52="","Complete item S1B8",IF(G52='Helper 1'!O3,"No (see section 6(2)(b) and item S1B8)",IF('Helper 1'!T2=0,"No (see section 6(2)(a) and item S1C5)","Yes"))) -> Complete item S1B8
D62: Qualifying Bermuda Group for the purposes of the substance-based tax credit? (section 6(2))
C66: Section C: Information regarding Bermuda Entity members of the Bermuda Group
L68: =IFERROR(INDEX('Helper 1'!$AD$2:$AD$251,MATCH(K70,'Helper 1'!$Z$2:$Z$251,0)),"") | Q68: =IFERROR(INDEX('Helper 1'!$AD$2:$AD$251,MATCH(P70,'Helper 1'!$Z$2:$Z$251,0)),"") | V68: =IFERROR(INDEX('Helper 1'!$AD$2:$AD$251,MATCH(U70,'Helper 1'!$Z$2:$Z$251,0)),"") | AA68: =IFERROR(INDEX('Helper 1'!$AD$2:$AD$251,MATCH(Z70,'Helper 1'!$Z$2:$Z$251,0)),"") | AF68: =IFERROR(INDEX('Helper 1'!$AD$2:$AD$251,MATCH(AE70,'Helper 1'!$Z$2:$Z$251,0)),"") | AK68: =IFERROR(INDEX('Helper 1'!$AD$2:$AD$251,MATCH(AJ70,'Helper 1'!$Z$2:$Z$251,0)),"") | AP68: =IFERROR(INDEX('Helper 1'!$AD$2:$AD$251,MATCH(AO70,'Helper 1'!$Z$2:$Z$251,0)),"") | AU68: =IFERROR(INDEX('Helper 1'!$AD$2:$AD$251,MATCH(AT70,'Helper 1'!$Z$2:$Z$251,0)),"") | AZ68: =IFERROR(INDEX('Helper 1'!$AD$2:$AD$251,MATCH(AY70,'Helper 1'!$Z$2:$Z$251,0)),"") | BE68: =IFERROR(INDEX('Helper 1'!$AD$2:$AD$251,MATCH(BD70,'Helper 1'!$Z$2:$Z$251,0)),"") | BJ68: =IFERROR(INDEX('Helper 1'!$AD$2:$AD$251,MATCH(BI70,'Helper 1'!$Z$2:$Z$251,0)),"") | BO68: =IFERROR(INDEX('Helper 1'!$AD$2:$AD$251,MATCH(BN70,'Helper 1'!$Z$2:$Z$251,0)),"") | BT68: =IFERROR(INDEX('Helper 1'!$AD$2:$AD$251,MATCH(BS70,'Helper 1'!$Z$2:$Z$251,0)),"") | BY68: =IFERROR(INDEX('Helper 1'!$AD$2:$AD$251,MATCH(BX70,'Helper 1'!$Z$2:$Z$251,0)),"") | CD68: =IFERROR(INDEX('Helper 1'!$AD$2:$AD$251,MATCH(CC70,'Helper 1'!$Z$2:$Z$251,0)),"") | CI68: =IFERROR(INDEX('Helper 1'!$AD$2:$AD$251,MATCH(CH70,'Helper 1'!$Z$2:$Z$251,0)),"") | CN68: =IFERROR(INDEX('Helper 1'!$AD$2:$AD$251,MATCH(CM70,'Helper 1'!$Z$2:$Z$251,0)),"") | CS68: =IFERROR(INDEX('Helper 1'!$AD$2:$AD$251,MATCH(CR70,'Helper 1'!$Z$2:$Z$251,0)),"") | CX68: =IFERROR(INDEX('Helper 1'!$AD$2:$AD$251,MATCH(CW70,'Helper 1'!$Z$2:$Z$251,0)),"") | DC68: =IFERROR(INDEX('Helper 1'!$AD$2:$AD$251,MATCH(DB70,'Helper 1'!$Z$2:$Z$251,0)),"") | DH68: =IFERROR(INDEX('Helper 1'!$AD$2:$AD$251,MATCH(DG70,'Helper 1'!$Z$2:$Z$251,0)),"") | DM68: =IFERROR(INDEX('Helper 1'!$AD$2:$AD$251,MATCH(DL70,'Helper 1'!$Z$2:$Z$251,0)),"") | DR68: =IFERROR(INDEX('Helper 1'!$AD$2:$AD$251,MATCH(DQ70,'Helper 1'!$Z$2:$Z$251,0)),"") | DW68: =IFERROR(INDEX('Helper 1'!$AD$2:$AD$251,MATCH(DV70,'Helper 1'!$Z$2:$Z$251,0)),"") | EB68: =IFERROR(INDEX('Helper 1'!$AD$2:$AD$251,MATCH(EA70,'Helper 1'!$Z$2:$Z$251,0)),"") | EG68: =IFERROR(INDEX('Helper 1'!$AD$2:$AD$251,MATCH(EF70,'Helper 1'!$Z$2:$Z$251,0)),"") | EL68: =IFERROR(INDEX('Helper 1'!$AD$2:$AD$251,MATCH(EK70,'Helper 1'!$Z$2:$Z$251,0)),"") | EQ68: =IFERROR(INDEX('Helper 1'!$AD$2:$AD$251,MATCH(EP70,'Helper 1'!$Z$2:$Z$251,0)),"") | EV68: =IFERROR(INDEX('Helper 1'!$AD$2:$AD$251,MATCH(EU70,'Helper 1'!$Z$2:$Z$251,0)),"") | FA68: =IFERROR(INDEX('Helper 1'!$AD$2:$AD$251,MATCH(EZ70,'Helper 1'!$Z$2:$Z$251,0)),"") | FF68: =IFERROR(INDEX('Helper 1'!$AD$2:$AD$251,MATCH(FE70,'Helper 1'!$Z$2:$Z$251,0)),"") | FK68: =IFERROR(INDEX('Helper 1'!$AD$2:$AD$251,MATCH(FJ70,'Helper 1'!$Z$2:$Z$251,0)),"") | FP68: =IFERROR(INDEX('Helper 1'!$AD$2:$AD$251,MATCH(FO70,'Helper 1'!$Z$2:$Z$251,0)),"") | FU68: =IFERROR(INDEX('Helper 1'!$AD$2:$AD$251,MATCH(FT70,'Helper 1'!$Z$2:$Z$251,0)),"") | FZ68: =IFERROR(INDEX('Helper 1'!$AD$2:$AD$251,MATCH(FY70,'Helper 1'!$Z$2:$Z$251,0)),"") | GE68: =IFERROR(INDEX('Helper 1'!$AD$2:$AD$251,MATCH(GD70,'Helper 1'!$Z$2:$Z$251,0)),"") | GJ68: =IFERROR(INDEX('Helper 1'!$AD$2:$AD$251,MATCH(GI70,'Helper 1'!$Z$2:$Z$251,0)),"") | GO68: =IFERROR(INDEX('Helper 1'!$AD$2:$AD$251,MATCH(GN70,'Helper 1'!$Z$2:$Z$251,0)),"") | GT68: =IFERROR(INDEX('Helper 1'!$AD$2:$AD$251,MATCH(GS70,'Helper 1'!$Z$2:$Z$251,0)),"") | GY68: =IFERROR(INDEX('Helper 1'!$AD$2:$AD$251,MATCH(GX70,'Helper 1'!$Z$2:$Z$251,0)),"") | HD68: =IFERROR(INDEX('Helper 1'!$AD$2:$AD$251,MATCH(HC70,'Helper 1'!$Z$2:$Z$251,0)),"") | HI68: =IFERROR(INDEX('Helper 1'!$AD$2:$AD$251,MATCH(HH70,'Helper 1'!$Z$2:$Z$251,0)),"") | HN68: =IFERROR(INDEX('Helper 1'!$AD$2:$AD$251,MATCH(HM70,'Helper 1'!$Z$2:$Z$251,0)),"") | HS68: =IFERROR(INDEX('Helper 1'!$AD$2:$AD$251,MATCH(HR70,'Helper 1'!$Z$2:$Z$251,0)),"") | HX68: =IFERROR(INDEX('Helper 1'!$AD$2:$AD$251,MATCH(HW70,'Helper 1'!$Z$2:$Z$251,0)),"") | IC68: =IFERROR(INDEX('Helper 1'!$AD$2:$AD$251,MATCH(IB70,'Helper 1'!$Z$2:$Z$251,0)),"") | IH68: =IFERROR(INDEX('Helper 1'!$AD$2:$AD$251,MATCH(IG70,'Helper 1'!$Z$2:$Z$251,0)),"") | IM68: =IFERROR(INDEX('Helper 1'!$AD$2:$AD$251,MATCH(IL70,'Helper 1'!$Z$2:$Z$251,0)),"") | IR68: =IFERROR(INDEX('Helper 1'!$AD$2:$AD$251,MATCH(IQ70,'Helper 1'!$Z$2:$Z$251,0)),"") | IW68: =IFERROR(INDEX('Helper 1'!$AD$2:$AD$251,MATCH(IV70,'Helper 1'!$Z$2:$Z$251,0)),"")
C70: S1C1 | D70: Name of the Bermuda Entity
...

Sheet Schedule 2
A1: TCB Return Schedules (Form S-201)
A2: Schedule 2: Tax Credit Summary
L3: =IF('Schedule 1'!L68<>"",'Schedule 1'!L68,"") | Q3: =IF('Schedule 1'!Q68<>"",'Schedule 1'!Q68,"") | V3: =IF('Schedule 1'!V68<>"",'Schedule 1'!V68,"") | AA3: =IF('Schedule 1'!AA68<>"",'Schedule 1'!AA68,"") | AF3: =IF('Schedule 1'!AF68<>"",'Schedule 1'!AF68,"") | AK3: =IF('Schedule 1'!AK68<>"",'Schedule 1'!AK68,"") | AP3: =IF('Schedule 1'!AP68<>"",'Schedule 1'!AP68,"") | AU3: =IF('Schedule 1'!AU68<>"",'Schedule 1'!AU68,"") | AZ3: =IF('Schedule 1'!AZ68<>"",'Schedule 1'!AZ68,"") | BE3: =IF('Schedule 1'!BE68<>"",'Schedule 1'!BE68,"") | BJ3: =IF('Schedule 1'!BJ68<>"",'Schedule 1'!BJ68,"") | BO3: =IF('Schedule 1'!BO68<>"",'Schedule 1'!BO68,"") | BT3: =IF('Schedule 1'!BT68<>"",'Schedule 1'!BT68,"") | BY3: =IF('Schedule 1'!BY68<>"",'Schedule 1'!BY68,"") | CD3: =IF('Schedule 1'!CD68<>"",'Schedule 1'!CD68,"") | CI3: =IF('Schedule 1'!CI68<>"",'Schedule 1'!CI68,"") | CN3: =IF('Schedule 1'!CN68<>"",'Schedule 1'!CN68,"") | CS3: =IF('Schedule 1'!CS68<>"",'Schedule 1'!CS68,"") | CX3: =IF('Schedule 1'!CX68<>"",'Schedule 1'!CX68,"") | DC3: =IF('Schedule 1'!DC68<>"",'Schedule 1'!DC68,"") | DH3: =IF('Schedule 1'!DH68<>"",'Schedule 1'!DH68,"") | DM3: =IF('Schedule 1'!DM68<>"",'Schedule 1'!DM68,"") | DR3: =IF('Schedule 1'!DR68<>"",'Schedule 1'!DR68,"") | DW3: =IF('Schedule 1'!DW68<>"",'Schedule 1'!DW68,"") | EB3: =IF('Schedule 1'!EB68<>"",'Schedule 1'!EB68,"") | EG3: =IF('Schedule 1'!EG68<>"",'Schedule 1'!EG68,"") | EL3: =IF('Schedule 1'!EL68<>"",'Schedule 1'!EL68,"") | EQ3: =IF('Schedule 1'!EQ68<>"",'Schedule 1'!EQ68,"") | EV3: =IF('Schedule 1'!EV68<>"",'Schedule 1'!EV68,"") | FA3: =IF('Schedule 1'!FA68<>"",'Schedule 1'!FA68,"") | FF3: =IF('Schedule 1'!FF68<>"",'Schedule 1'!FF68,"") | FK3: =IF('Schedule 1'!FK68<>"",'Schedule 1'!FK68,"") | FP3: =IF('Schedule 1'!FP68<>"",'Schedule 1'!FP68,"") | FU3: =IF('Schedule 1'!FU68<>"",'Schedule 1'!FU68,"") | FZ3: =IF('Schedule 1'!FZ68<>"",'Schedule 1'!FZ68,"") | GE3: =IF('Schedule 1'!GE68<>"",'Schedule 1'!GE68,"") | GJ3: =IF('Schedule 1'!GJ68<>"",'Schedule 1'!GJ68,"") | GO3: =IF('Schedule 1'!GO68<>"",'Schedule 1'!GO68,"") | GT3: =IF('Schedule 1'!GT68<>"",'Schedule 1'!GT68,"") | GY3: =IF('Schedule 1'!GY68<>"",'Schedule 1'!GY68,"") | HD3: =IF('Schedule 1'!HD68<>"",'Schedule 1'!HD68,"") | HI3: =IF('Schedule 1'!HI68<>"",'Schedule 1'!HI68,"") | HN3: =IF('Schedule 1'!HN68<>"",'Schedule 1'!HN68,"") | HS3: =IF('Schedule 1'!HS68<>"",'Schedule 1'!HS68,"") | HX3: =IF('Schedule 1'!HX68<>"",'Schedule 1'!HX68,"") | IC3: =IF('Schedule 1'!IC68<>"",'Schedule 1'!IC68,"") | IH3: =IF('Schedule 1'!IH68<>"",'Schedule 1'!IH68,"") | IM3: =IF('Schedule 1'!IM68<>"",'Schedule 1'!IM68,"") | IR3: =IF('Schedule 1'!IR68<>"",'Schedule 1'!IR68,"") | IW3: =IF('Schedule 1'!IW68<>"",'Schedule 1'!IW68,"")
C5: Section A: Accrued tax credit benefits
G7: Qualifying Bermuda Group | K7: =IF('Schedule 1'!K70<>"",'Schedule 1'!K70,"") | P7: =IF('Schedule 1'!P70<>"",'Schedule 1'!P70,"") | U7: =IF('Schedule 1'!U70<>"",'Schedule 1'!U70,"") | Z7: =IF('Schedule 1'!Z70<>"",'Schedule 1'!Z70,"") | AE7: =IF('Schedule 1'!AE70<>"",'Schedule 1'!AE70,"") | AJ7: =IF('Schedule 1'!AJ70<>"",'Schedule 1'!AJ70,"") | AO7: =IF('Schedule 1'!AO70<>"",'Schedule 1'!AO70,"") | AT7: =IF('Schedule 1'!AT70<>"",'Schedule 1'!AT70,"") | AY7: =IF('Schedule 1'!AY70<>"",'Schedule 1'!AY70,"") | BD7: =IF('Schedule 1'!BD70<>"",'Schedule 1'!BD70,"") | BI7: =IF('Schedule 1'!BI70<>"",'Schedule 1'!BI70,"") | BN7: =IF('Schedule 1'!BN70<>"",'Schedule 1'!BN70,"") | BS7: =IF('Schedule 1'!BS70<>"",'Schedule 1'!BS70,"") | BX7: =IF('Schedule 1'!BX70<>"",'Schedule 1'!BX70,"") | CC7: =IF('Schedule 1'!CC70<>"",'Schedule 1'!CC70,"") | CH7: =IF('Schedule 1'!CH70<>"",'Schedule 1'!CH70,"") | CM7: =IF('Schedule 1'!CM70<>"",'Schedule 1'!CM70,"") | CR7: =IF('Schedule 1'!CR70<>"",'Schedule 1'!CR70,"") | CW7: =IF('Schedule 1'!CW70<>"",'Schedule 1'!CW70,"") | DB7: =IF('Schedule 1'!DB70<>"",'Schedule 1'!DB70,"") | DG7: =IF('Schedule 1'!DG70<>"",'Schedule 1'!DG70,"") | DL7: =IF('Schedule 1'!DL70<>"",'Schedule 1'!DL70,"") | DQ7: =IF('Schedule 1'!DQ70<>"",'Schedule 1'!DQ70,"") | DV7: =IF('Schedule 1'!DV70<>"",'Schedule 1'!DV70,"") | EA7: =IF('Schedule 1'!EA70<>"",'Schedule 1'!EA70,"") | EF7: =IF('Schedule 1'!EF70<>"",'Schedule 1'!EF70,"") | EK7: =IF('Schedule 1'!EK70<>"",'Schedule 1'!EK70,"") | EP7: =IF('Schedule 1'!EP70<>"",'Schedule 1'!EP70,"") | EU7: =IF('Schedule 1'!EU70<>"",'Schedule 1'!EU70,"") | EZ7: =IF('Schedule 1'!EZ70<>"",'Schedule 1'!EZ70,"") | FE7: =IF('Schedule 1'!FE70<>"",'Schedule 1'!FE70,"") | FJ7: =IF('Schedule 1'!FJ70<>"",'Schedule 1'!FJ70,"") | FO7: =IF('Schedule 1'!FO70<>"",'Schedule 1'!FO70,"") | FT7: =IF('Schedule 1'!FT70<>"",'Schedule 1'!FT70,"") | FY7: =IF('Schedule 1'!FY70<>"",'Schedule 1'!FY70,"") | GD7: =IF('Schedule 1'!GD70<>"",'Schedule 1'!GD70,"") | GI7: =IF('Schedule 1'!GI70<>"",'Schedule 1'!GI70,"") | GN7: =IF('Schedule 1'!GN70<>"",'Schedule 1'!GN70,"") | GS7: =IF('Schedule 1'!GS70<>"",'Schedule 1'!GS70,"") | GX7: =IF('Schedule 1'!GX70<>"",'Schedule 1'!GX70,"") | HC7: =IF('Schedule 1'!HC70<>"",'Schedule 1'!HC70,"") | HH7: =IF('Schedule 1'!HH70<>"",'Schedule 1'!HH70,"") | HM7: =IF('Schedule 1'!HM70<>"",'Schedule 1'!HM70,"") | HR7: =IF('Schedule 1'!HR70<>"",'Schedule 1'!HR70,"") | HW7: =IF('Schedule 1'!HW70<>"",'Schedule 1'!HW70,"") | IB7: =IF('Schedule 1'!IB70<>"",'Schedule 1'!IB70,"") | IG7: =IF('Schedule 1'!IG70<>"",'Schedule 1'!IG70,"") | IL7: =IF('Schedule 1'!IL70<>"",'Schedule 1'!IL70,"") | IQ7: =IF('Schedule 1'!IQ70<>"",'Schedule 1'!IQ70,"") | IV7: =IF('Schedule 1'!IV70<>"",'Schedule 1'!IV70,"")
C9: S2A1 | D9: Job-based benefit component (from item S4A3) | F9: =IFERROR(INDEX('Helper 1'!$I$2:$I$19,MATCH('Schedule 1'!$G$20,'Helper 1'!$H$2:$H$19,0)),"") | G9: =SUM(L9:ALS9) -> 0 | L9: ='Schedule 4'!L13 -> 0 | Q9: ='Schedule 4'!Q13 -> 0 | V9: ='Schedule 4'!V13 -> 0 | AA9: ='Schedule 4'!AA13 -> 0 | AF9: ='Schedule 4'!AF13 -> 0 | AK9: ='Schedule 4'!AK13 -> 0 | AP9: ='Schedule 4'!AP13 -> 0 | AU9: ='Schedule 4'!AU13 -> 0 | AZ9: ='Schedule 4'!AZ13 -> 0 | BE9: ='Schedule 4'!BE13 -> 0 | BJ9: ='Schedule 4'!BJ13 -> 0 | BO9: ='Schedule 4'!BO13 -> 0 | BT9: ='Schedule 4'!BT13 -> 0 | BY9: ='Schedule 4'!BY13 -> 0 | CD9: ='Schedule 4'!CD13 -> 0 | CI9: ='Schedule 4'!CI13 -> 0 | CN9: ='Schedule 4'!CN13 -> 0 | CS9: ='Schedule 4'!CS13 -> 0 | CX9: ='Schedule 4'!CX13 -> 0 | DC9: ='Schedule 4'!DC13 -> 0 | DH9: ='Schedule 4'!DH13 -> 0 | DM9: ='Schedule 4'!DM13 -> 0 | DR9: ='Schedule 4'!DR13 -> 0 | DW9: ='Schedule 4'!DW13 -> 0 | EB9: ='Schedule 4'!EB13 -> 0 | EG9: ='Schedule 4'!EG13 -> 0 | EL9: ='Schedule 4'!EL13 -> 0 | EQ9: ='Schedule 4'!EQ13 -> 0 | EV9: ='Schedule 4'!EV13 -> 0 | FA9: ='Schedule 4'!FA13 -> 0 | FF9: ='Schedule 4'!FF13 -> 0 | FK9: ='Schedule 4'!FK13 -> 0 | FP9: ='Schedule 4'!FP13 -> 0 | FU9: ='Schedule 4'!FU13 -> 0 | FZ9: ='Schedule 4'!FZ13 -> 0 | GE9: ='Schedule 4'!GE13 -> 0 | GJ9: ='Schedule 4'!GJ13 -> 0 | GO9: ='Schedule 4'!GO13 -> 0 | GT9: ='Schedule 4'!GT13 -> 0 | GY9: ='Schedule 4'!GY13 -> 0 | HD9: ='Schedule 4'!HD13 -> 0 | HI9: ='Schedule 4'!HI13 -> 0 | HN9: ='Schedule 4'!HN13 -> 0 | HS9: ='Schedule 4'!HS13 -> 0 | HX9: ='Schedule 4'!HX13 -> 0 | IC9: ='Schedule 4'!IC13 -> 0 | IH9: ='Schedule 4'!IH13 -> 0 | IM9: ='Schedule 4'!IM13 -> 0 | IR9: ='Schedule 4'!IR13 -> 0 | IW9: ='Schedule 4'!IW13 -> 0
C11: S2A2 | D11: Expense-based benefit component (from item S5A3) | F11: =IFERROR(INDEX('Helper 1'!$I$2:$I$19,MATCH('Schedule 1'!$G$20,'Helper 1'!$H$2:$H$19,0)),"") | G11: =SUM(L11:ALS11) -> 0 | L11: ='Schedule 5'!L13 -> 0 | Q11: ='Schedule 5'!Q13 -> 0 | V11: ='Schedule 5'!V13 -> 0 | AA11: ='Schedule 5'!AA13 -> 0 | AF11: ='Schedule 5'!AF13 -> 0 | AK11: ='Schedule 5'!AK13 -> 0 | AP11: ='Schedule 5'!AP13 -> 0 | AU11: ='Schedule 5'!AU13 -> 0 | AZ11: ='Schedule 5'!AZ13 -> 0 | BE11: ='Schedule 5'!BE13 -> 0 | BJ11: ='Schedule 5'!BJ13 -> 0 | BO11: ='Schedule 5'!BO13 -> 0 | BT11: ='Schedule 5'!BT13 -> 0 | BY11: ='Schedule 5'!BY13 -> 0 | CD11: ='Schedule 5'!CD13 -> 0 | CI11: ='Schedule 5'!CI13 -> 0 | CN11: ='Schedule 5'!CN13 -> 0 | CS11: ='Schedule 5'!CS13 -> 0 | CX11: ='Schedule 5'!CX13 -> 0 | DC11: ='Schedule 5'!DC13 -> 0 | DH11: ='Schedule 5'!DH13 -> 0 | DM11: ='Schedule 5'!DM13 -> 0 | DR11: ='Schedule 5'!DR13 -> 0 | DW11: ='Schedule 5'!DW13 -> 0 | EB11: ='Schedule 5'!EB13 -> 0 | EG11: ='Schedule 5'!EG13 -> 0 | EL11: ='Schedule 5'!EL13 -> 0 | EQ11: ='Schedule 5'!EQ13 -> 0 | EV11: ='Schedule 5'!EV13 -> 0 | FA11: ='Schedule 5'!FA13 -> 0 | FF11: ='Schedule 5'!FF13 -> 0 | FK11: ='Schedule 5'!FK13 -> 0 | FP11: ='Schedule 5'!FP13 -> 0 | FU11: ='Schedule 5'!FU13 -> 0 | FZ11: ='Schedule 5'!FZ13 -> 0 | GE11: ='Schedule 5'!GE13 -> 0 | GJ11: ='Schedule 5'!GJ13 -> 0 | GO11: ='Schedule 5'!GO13 -> 0 | GT11: ='Schedule 5'!GT13 -> 0 | GY11: ='Schedule 5'!GY13 -> 0 | HD11: ='Schedule 5'!HD13 -> 0 | HI11: ='Schedule 5'!HI13 -> 0 | HN11: ='Schedule 5'!HN13 -> 0 | HS11: ='Schedule 5'!HS13 -> 0 | HX11: ='Schedule 5'!HX13 -> 0 | IC11: ='Schedule 5'!IC13 -> 0 | IH11: ='Schedule 5'!IH13 -> 0 | IM11: ='Schedule 5'!IM13 -> 0 | IR11: ='Schedule 5'!IR13 -> 0 | IW11: ='Schedule 5'!IW13 -> 0
C13: S2A3 | D13: Accrued substance-based tax credit benefit (section 6(1)) | F13: =IFERROR(INDEX('Helper 1'!$I$2:$I$19,MATCH('Schedule 1'!$G$20,'Helper 1'!$H$2:$H$19,0)),"") | G13: =SUM(L13:ALS13) -> 0 | L13: =SUM(L9,L11) -> 0 | Q13: =SUM(Q9,Q11) -> 0 | V13: =SUM(V9,V11) -> 0 | AA13: =SUM(AA9,AA11) -> 0 | AF13: =SUM(AF9,AF11) -> 0 | AK13: =SUM(AK9,AK11) -> 0 | AP13: =SUM(AP9,AP11) -> 0 | AU13: =SUM(AU9,AU11) -> 0 | AZ13: =SUM(AZ9,AZ11) -> 0 | BE13: =SUM(BE9,BE11) -> 0 | BJ13: =SUM(BJ9,BJ11) -> 0 | BO13: =SUM(BO9,BO11) -> 0 | BT13: =SUM(BT9,BT11) -> 0 | BY13: =SUM(BY9,BY11) -> 0 | CD13: =SUM(CD9,CD11) -> 0 | CI13: =SUM(CI9,CI11) -> 0 | CN13: =SUM(CN9,CN11) -> 0 | CS13: =SUM(CS9,CS11) -> 0 | CX13: =SUM(CX9,CX11) -> 0 | DC13: =SUM(DC9,DC11) -> 0 | DH13: =SUM(DH9,DH11) -> 0 | DM13: =SUM(DM9,DM11) -> 0 | DR13: =SUM(DR9,DR11) -> 0 | DW13: =SUM(DW9,DW11) -> 0 | EB13: =SUM(EB9,EB11) -> 0 | EG13: =SUM(EG9,EG11) -> 0 | EL13: =SUM(EL9,EL11) -> 0 | EQ13: =SUM(EQ9,EQ11) -> 0 | EV13: =SUM(EV9,EV11) -> 0 | FA13: =SUM(FA9,FA11) -> 0 | FF13: =SUM(FF9,FF11) -> 0 | FK13: =SUM(FK9,FK11) -> 0 | FP13: =SUM(FP9,FP11) -> 0 | FU13: =SUM(FU9,FU11) -> 0 | FZ13: =SUM(FZ9,FZ11) -> 0 | GE13: =SUM(GE9,GE11) -> 0 | GJ13: =SUM(GJ9,GJ11) -> 0 | GO13: =SUM(GO9,GO11) -> 0 | GT13: =SUM(GT9,GT11) -> 0 | GY13: =SUM(GY9,GY11) -> 0 | HD13: =SUM(HD9,HD11) -> 0 | HI13: =SUM(HI9,HI11) -> 0 | HN13: =SUM(HN9,HN11) -> 0 | HS13: =SUM(HS9,HS11) -> 0 | HX13: =SUM(HX9,HX11) -> 0 | IC13: =SUM(IC9,IC11) -> 0 | IH13: =SUM(IH9,IH11) -> 0 | IM13: =SUM(IM9,IM11) -> 0 | IR13: =SUM(IR9,IR11) -> 0 | IW13: =SUM(IW9,IW11) -> 0
